BEGIN:VCALENDAR
VERSION:2.0
PRODID:-//wp-events-plugin.com//7.2.3.1//EN
TZID:Europe/Paris
X-WR-TIMEZONE:Europe/Paris
BEGIN:VEVENT
UID:41@soundheritage.fr
DTSTART:20250301T090000Z
DTEND:20250301T193000Z
DTSTAMP:20250205T192841Z
URL:https://www.soundheritage.fr/events/journee-porte-ouverte/
SUMMARY:Journée d'écoute Porte Ouverte SoundHeritage
DESCRIPTION:Plongez dans l’univers hi-fi vintage lors de notre journée d
 ’écoute et de découverte ! SoundHeritage\, spécialiste de la vente 
 hi-fi haut de gamme\, de l’achat hi-fi et de la réparation hi-fi vintag
 e\, vous convie à un événement exceptionnel mettant à l’honneur deux
  enceintes légendaires\, et très rare en France. Une occasion a ne pas m
 anquer. Vous découvriez aussi notre nouveau Salon d'écoute !  \n\nDiato
 ne DS-5000 (1982) Ce modèle phare\, issu de 1982\, est un système 4 voie
 s \, doté de :\n\n\n\n\nD’un woofer de 40 cm\, d’un médium-basse
  de 25 cm\, d’un médium-haut avec dôme de 6\,5 cm et d’un tweete
 r à dôme de 2\,3 cm\n\n\n\nD’une réponse en fréquence de 20 Hz 
 à 60 kHz\, d’une impédance de 6 Ω et d’une puissance maximale d
 e 250 W\n\n\n\nD’un design raffiné et d’une construction robuste (1
 00 kg) pour une restitution sonore d’une précision inégalée !\n\n\n
 \n\nYamaha NS-20 (années 1960) Ce modèle emblématique\, lancé en 1968 
 par Yamaha\, vous séduira par son authenticité :\n\n\n\n\nEquipée d
 ’un woofer NS type JA-5002 inspiré de la vibration d’un piano et d’
 un squawker de 20 cm (JA-2053) pour le médium\n\n\n\nDotée d’un twee
 ter horn de 5 cm (JA-0503/JA-0505)\, offrant une dynamique exceptionnell
 e\n\n\n\nOffrant une réponse de 50 Hz à 18 kHz\, une impédance de 8
  Ω et un excellent niveau de pression sonore (102 dB/W) dans un forma
 t compact et léger (23 kg)\n\n\n\nRendement de plus de 102 db pour ces 
 enceintes exceptionnel !\n\nRejoignez-nous pour des écoutes exclusives et
  laissez-vous transporter par le charme intemporel de ces pièces rares. P
 rofitez de conseils avisés et d’un moment convivial pour échanger sur 
 l’univers de la hi-fi vintage\, que vous soyez amateur ou collectionneur
  en quête d’un achat ou d’une réparation d’exception !\nVivez l’
 expérience SoundHeritage et redécouvrez la magie du son authentique !\
 n
ATTACH;FMTTYPE=image/jpeg:https://www.soundheritage.fr/wp-content/uploads/
 2024/12/Piece-decoute-SoundHeritage-03.jpg
CATEGORIES:Journée D'écoute,Porte Ouverte
LOCATION:SoundHeritage\, 46 rue de la maladrie\, Vertou\, 44120\, France
X-APPLE-STRUCTURED-LOCATION;VALUE=URI;X-ADDRESS=46 rue de la maladrie\, Ver
 tou\, 44120\, France;X-APPLE-RADIUS=100;X-TITLE=SoundHeritage:geo:0,0
END:VEVENT
END:VCALENDAR